{
 "currentVersion": 10.91,
 "cimVersion": "2.9.0",
 "serviceDescription": "",
 "mapName": "Colour",
 "description": "",
 "copyrightText": "",
 "supportsDynamicLayers": false,
 "layers": [
  {
   "id": 0,
   "name": "Level 19 - 1K",
   "parentLayerId": -1,
   "defaultVisibility": true,
   "subLayerIds": [
    1,
    3,
    5,
    7,
    8,
    9,
    10
   ],
   "minScale": 1128.497176,
   "maxScale": 0,
   "type": "Group Layer",
   "supportsDynamicLegends": false
  },
  {
   "id": 1,
   "name": "AnFc_1_1000",
   "parentLayerId": 0,
   "defaultVisibility": true,
   "subLayerIds": [
    2
   ],
   "minScale": 1000,
   "maxScale": 0,
   "type": "Annotation Layer",
   "geometryType": "esriGeometryPolygon",
   "supportsDynamicLegends": false
  },
  {
   "id": 2,
   "name": "Default",
   "parentLayerId": 1,
   "defaultVisibility": true,
   "subLayerIds": null,
   "minScale": 0,
   "maxScale": 0,
   "supportsDynamicLegends": false
  },
  {
   "id": 3,
   "name": "AnFc_1_1250",
   "parentLayerId": 0,
   "defaultVisibility": true,
   "subLayerIds": [
    4
   ],
   "minScale": 1250,
   "maxScale": 1001,
   "type": "Annotation Layer",
   "geometryType": "esriGeometryPolygon",
   "supportsDynamicLegends": false
  },
  {
   "id": 4,
   "name": "Default",
   "parentLayerId": 3,
   "defaultVisibility": true,
   "subLayerIds": null,
   "minScale": 0,
   "maxScale": 0,
   "supportsDynamicLegends": false
  },
  {
   "id": 5,
   "name": "AnFc_1_1500",
   "parentLayerId": 0,
   "defaultVisibility": true,
   "subLayerIds": [
    6
   ],
   "minScale": 1500,
   "maxScale": 1251,
   "type": "Annotation Layer",
   "geometryType": "esriGeometryPolygon",
   "supportsDynamicLegends": false
  },
  {
   "id": 6,
   "name": "Default",
   "parentLayerId": 5,
   "defaultVisibility": true,
   "subLayerIds": null,
   "minScale": 0,
   "maxScale": 0,
   "supportsDynamicLegends": false
  },
  {
   "id": 7,
   "name": "Water point_MasterMap _1K",
   "parentLayerId": 0,
   "defaultVisibility": true,
   "subLayerIds": null,
   "minScale": 0,
   "maxScale": 0,
   "type": "Feature Layer",
   "geometryType": "esriGeometryPoint",
   "supportsDynamicLegends": true
  },
  {
   "id": 8,
   "name": "Point_MasterMap _1K",
   "parentLayerId": 0,
   "defaultVisibility": true,
   "subLayerIds": null,
   "minScale": 0,
   "maxScale": 0,
   "type": "Feature Layer",
   "geometryType": "esriGeometryPoint",
   "supportsDynamicLegends": true
  },
  {
   "id": 9,
   "name": "Line_MasterMap _1K",
   "parentLayerId": 0,
   "defaultVisibility": true,
   "subLayerIds": null,
   "minScale": 0,
   "maxScale": 0,
   "type": "Feature Layer",
   "geometryType": "esriGeometryPolyline",
   "supportsDynamicLegends": true
  },
  {
   "id": 10,
   "name": "Area_MasterMap _1K",
   "parentLayerId": 0,
   "defaultVisibility": true,
   "subLayerIds": null,
   "minScale": 0,
   "maxScale": 0,
   "type": "Feature Layer",
   "geometryType": "esriGeometryPolygon",
   "supportsDynamicLegends": true
  },
  {
   "id": 11,
   "name": "Level 18 - 2.5K",
   "parentLayerId": -1,
   "defaultVisibility": true,
   "subLayerIds": [
    12,
    14,
    16,
    17,
    18,
    19
   ],
   "minScale": 2256.994353,
   "maxScale": 1129,
   "type": "Group Layer",
   "supportsDynamicLegends": false
  },
  {
   "id": 12,
   "name": "AnFc_1_1750",
   "parentLayerId": 11,
   "defaultVisibility": true,
   "subLayerIds": [
    13
   ],
   "minScale": 1750,
   "maxScale": 1501,
   "type": "Annotation Layer",
   "geometryType": "esriGeometryPolygon",
   "supportsDynamicLegends": false
  },
  {
   "id": 13,
   "name": "Default",
   "parentLayerId": 12,
   "defaultVisibility": true,
   "subLayerIds": null,
   "minScale": 0,
   "maxScale": 0,
   "supportsDynamicLegends": false
  },
  {
   "id": 14,
   "name": "AnFc_1_2000",
   "parentLayerId": 11,
   "defaultVisibility": true,
   "subLayerIds": [
    15
   ],
   "minScale": 0,
   "maxScale": 1751,
   "type": "Annotation Layer",
   "geometryType": "esriGeometryPolygon",
   "supportsDynamicLegends": false
  },
  {
   "id": 15,
   "name": "Default",
   "parentLayerId": 14,
   "defaultVisibility": true,
   "subLayerIds": null,
   "minScale": 0,
   "maxScale": 0,
   "supportsDynamicLegends": false
  },
  {
   "id": 16,
   "name": "Water point_MasterMap _2.5K",
   "parentLayerId": 11,
   "defaultVisibility": true,
   "subLayerIds": null,
   "minScale": 0,
   "maxScale": 0,
   "type": "Feature Layer",
   "geometryType": "esriGeometryPoint",
   "supportsDynamicLegends": true
  },
  {
   "id": 17,
   "name": "Point_MasterMap _2.5K",
   "parentLayerId": 11,
   "defaultVisibility": true,
   "subLayerIds": null,
   "minScale": 0,
   "maxScale": 0,
   "type": "Feature Layer",
   "geometryType": "esriGeometryPoint",
   "supportsDynamicLegends": true
  },
  {
   "id": 18,
   "name": "Line_MasterMap _2.5K",
   "parentLayerId": 11,
   "defaultVisibility": true,
   "subLayerIds": null,
   "minScale": 0,
   "maxScale": 0,
   "type": "Feature Layer",
   "geometryType": "esriGeometryPolyline",
   "supportsDynamicLegends": true
  },
  {
   "id": 19,
   "name": "Area_MasterMap _2.5K",
   "parentLayerId": 11,
   "defaultVisibility": true,
   "subLayerIds": null,
   "minScale": 0,
   "maxScale": 0,
   "type": "Feature Layer",
   "geometryType": "esriGeometryPolygon",
   "supportsDynamicLegends": true
  },
  {
   "id": 20,
   "name": "GB Cartographic",
   "parentLayerId": -1,
   "defaultVisibility": true,
   "subLayerIds": null,
   "minScale": 1.4759553172313717E8,
   "maxScale": 2257,
   "type": "",
   "supportsDynamicLegends": false
  }
 ],
 "tables": [],
 "spatialReference": {
  "wkid": 27700,
  "latestWkid": 27700,
  "xyTolerance": 0.001,
  "zTolerance": 0.001,
  "mTolerance": 0.001,
  "falseX": -5220400,
  "falseY": -15524400,
  "xyUnits": 10000,
  "falseZ": -100000,
  "zUnits": 10000,
  "falseM": -100000,
  "mUnits": 10000
 },
 "initialExtent": {
  "xmin": 512667.3260538646,
  "ymin": 154974.14321688926,
  "xmax": 513376.7660607651,
  "ymax": 155449.58845999392,
  "spatialReference": {
   "wkid": 27700,
   "latestWkid": 27700,
   "xyTolerance": 0.001,
   "zTolerance": 0.001,
   "mTolerance": 0.001,
   "falseX": -5220400,
   "falseY": -15524400,
   "xyUnits": 10000,
   "falseZ": -100000,
   "zUnits": 10000,
   "falseM": -100000,
   "mUnits": 10000
  }
 },
 "fullExtent": {
  "xmin": 469630.51572557027,
  "ymin": 126127.44838439603,
  "xmax": 556419.6342744292,
  "ymax": 184290.89161560382,
  "spatialReference": {
   "wkid": 27700,
   "latestWkid": 27700,
   "xyTolerance": 0.001,
   "zTolerance": 0.001,
   "mTolerance": 0.001,
   "falseX": -5220400,
   "falseY": -15524400,
   "xyUnits": 10000,
   "falseZ": -100000,
   "zUnits": 10000,
   "falseM": -100000,
   "mUnits": 10000
  }
 },
 "datesInUnknownTimezone": false,
 "units": "esriMeters",
 "supportedImageFormatTypes": "PNG32,PNG24,PNG,JPG,DIB,TIFF,EMF,PS,PDF,GIF,SVG,SVGZ,BMP",
 "documentInfo": {
  "Title": "E:\\sgibbins\\Documents\\ArcGIS\\Projects\\Surrey OS\\Surrey OS.aprx",
  "Author": "",
  "Comments": "",
  "Subject": "",
  "Category": "",
  "AntialiasingMode": "None",
  "TextAntialiasingMode": "Force",
  "Version": "2.9.0",
  "Keywords": ""
 },
 "supportedQueryFormats": "JSON, geoJSON, PBF",
 "referenceScale": 2000.0,
 "datumTransformations": [
  {
   "geoTransforms": [
    {
     "wkid": 5338,
     "latestWkid": 5338,
     "transformForward": true,
     "name": "OSGB_1936_To_ETRS_1989_1"
    },
    {
     "wkid": 1149,
     "latestWkid": 1149,
     "transformForward": true,
     "name": "ETRS_1989_To_WGS_1984"
    }
   ]
  },
  {
   "geoTransforms": [
    {
     "wkid": 1149,
     "latestWkid": 1149,
     "transformForward": false,
     "name": "ETRS_1989_To_WGS_1984"
    },
    {
     "wkid": 5338,
     "latestWkid": 5338,
     "transformForward": false,
     "name": "OSGB_1936_To_ETRS_1989_1"
    }
   ]
  }
 ],
 "supportsDatumTransformation": true,
 "floorAwareMapProperties": {
  "defaultFloorFilterSettings": {
   "isEnabled": true
  }
 },
 "archivingInfo": {
  "supportsHistoricMoment": false
 },
 "supportsClipping": true,
 "supportsSpatialFilter": true,
 "supportsTimeRelation": true,
 "supportsQueryDataElements": true,
 "maxRecordCount": 1000,
 "maxImageHeight": 4096,
 "maxImageWidth": 4096,
 "tileInfo": {
  "rows": 512,
  "cols": 512,
  "dpi": 96,
  "format": "PNG",
  "compressionQuality": 0,
  "origin": {
   "x": -9597137.348713825,
   "y": 4470073.533885086
  },
  "spatialReference": {
   "wkid": 27700,
   "latestWkid": 27700
  },
  "lods": [
   {
    "level": 0,
    "resolution": 39051.31776841338,
    "scale": 1.4759553172313717E8
   },
   {
    "level": 1,
    "resolution": 19525.65888420669,
    "scale": 7.379776586156859E7
   },
   {
    "level": 2,
    "resolution": 9762.829442103344,
    "scale": 3.689888293078429E7
   },
   {
    "level": 3,
    "resolution": 4881.414721051672,
    "scale": 1.8449441465392146E7
   },
   {
    "level": 4,
    "resolution": 2440.707360525836,
    "scale": 9224720.732696073
   },
   {
    "level": 5,
    "resolution": 1220.353680262918,
    "scale": 4612360.366348037
   },
   {
    "level": 6,
    "resolution": 610.176840131459,
    "scale": 2306180.1831740183
   },
   {
    "level": 7,
    "resolution": 305.0884200657295,
    "scale": 1153090.0915870091
   },
   {
    "level": 8,
    "resolution": 152.54421003286475,
    "scale": 576545.0457935046
   },
   {
    "level": 9,
    "resolution": 76.27210501643238,
    "scale": 288272.5228967523
   },
   {
    "level": 10,
    "resolution": 38.13605250821619,
    "scale": 144136.26144837614
   },
   {
    "level": 11,
    "resolution": 19.068026254108094,
    "scale": 72068.13072418807
   },
   {
    "level": 12,
    "resolution": 9.534013127054047,
    "scale": 36034.065362094036
   },
   {
    "level": 13,
    "resolution": 4.767006563527024,
    "scale": 18017.032681047018
   },
   {
    "level": 14,
    "resolution": 2.383503281763512,
    "scale": 9008.516340523509
   },
   {
    "level": 15,
    "resolution": 1.191751640881756,
    "scale": 4504.2581702617545
   },
   {
    "level": 16,
    "resolution": 0.595875820440878,
    "scale": 2252.1290851308772
   },
   {
    "level": 17,
    "resolution": 0.297937910220439,
    "scale": 1126.0645425654386
   },
   {
    "level": 18,
    "resolution": 0.1489689551102195,
    "scale": 563.0322712827193
   },
   {
    "level": 19,
    "resolution": 0.07448447755510974,
    "scale": 281.51613564135965
   },
   {
    "level": 20,
    "resolution": 0.03724223877755487,
    "scale": 140.75806782067983
   },
   {
    "level": 21,
    "resolution": 0.018621119388777436,
    "scale": 70.37903391033991
   },
   {
    "level": 22,
    "resolution": 0.009310559694388718,
    "scale": 35.18951695516996
   },
   {
    "level": 23,
    "resolution": 0.004655279847194359,
    "scale": 17.59475847758498
   }
  ]
 },
 "singleFusedMapCache": true,
 "capabilities": "TilesOnly,Tilemap",
 "minLOD": 8,
 "maxLOD": 18,
 "minScale": 5.91657527591555E8,
 "maxScale": 0,
 "exportTilesAllowed": true,
 "maxExportTilesCount": 100000,
 "supportedExtensions": "",
 "serviceItemId": "a79b5190c7214382bf632b946c250e8f"
}
